Workbook
Name CPU: Preise!$A$15
Name CPUs: Server10!$B$7
Name CPUs: Server2!$B$7
Name CPUs: Server3!$B$7
Name CPUs: Server4!$B$7
Name CPUs: Server5!$B$7
Name CPUs: Server6!$B$7
Name CPUs: Server7!$B$7
Name CPUs: Server8!$B$7
Name CPUs: Server9!$B$7
Name CPUs: Server1!$B$7
Name eee: Server10!$B$7
Name eee: Server2!$B$7
Name eee: Server3!$B$7
Name eee: Server4!$B$7
Name eee: Server5!$B$7
Name eee: Server6!$B$7
Name eee: Server7!$B$7
Name eee: Server8!$B$7
Name eee: Server9!$B$7
Name eee: Server1!$B$7
Name RAM: Preise!$A$14
Name stdCPUs: 'interne Kalkulation'!$B$12
Name stdRAM: 'interne Kalkulation'!$B$13

Sheet Gesamtkosten
B4: Anzahl | C4: Preis
A5: =Server1!C6 -> Name1 | C5: =Server1!$C19 -> 0
A6: =Server2!C6 -> Name2 | C6: =Server2!$C19 -> 0
A7: =Server3!C6 -> Name3 | C7: =Server3!$C19 -> 0
A8: =Server4!C6 -> Name4 | C8: =Server4!$C19 -> 0
A9: =Server5!C6 -> Name5 | C9: =Server5!$C19 -> 0
A10: =Server6!C6 -> Name6 | C10: =Server6!$C19 -> 0
A11: =Server7!C6 -> Name7 | C11: =Server7!$C19 -> 0
A12: =Server8!C6 -> Name8 | C12: =Server8!$C19 -> 0
A13: =Server9!C6 -> Name9 | C13: =Server9!$C19 -> 0
A14: =Server10!C6 -> Name10 | C14: =Server10!$C19 -> 0
A15: Uplink | B15: Nein | C15: =IF(B15="Ja",Preise!$B20,0) -> 0
A16: Pubic IPs | B16: 0 | C16: =B16*Preise!$B21 -> 0
A17: VLANs | B17: 0 | C17: =B17*Preise!$B19 -> 0
A18: 7x24 Bereitschaft | B18: Nein | C18: =IF(B18="Ja",Preise!$B29,0) -> 0
A19: ReversProxy | B19: Nein | C19: =IF(B19="Ja",Preise!$B28,0) -> 0
A20: Site2Site VPN | B20: 0 | C20: =B20*Preise!$B23 -> 0
A21: Client VPN | B21: 0 | C21: =B21*Preise!$B24 -> 0
A22: Firewall Service für Server | C22: =IF(SUM(C5:C21)>0,Preise!$B22,0) -> 0
A23: Add Ons | C23: ='Add-Ons'!$D16 -> 0
A24: Monatliche Kosten | C24: =SUM(C5:C23) -> 0
A25: Setup Kosten | C25: ='Zwischen Rechnung Setupkosten'!$E25 -> 0
A26: Detail Informationen | C26: pro Monat
A27: Computing Power | C27: =Server1!C9+Server2!C9+Server3!C9+Server4!C9+Server5!C9+Server6!C9+Server7!C9+Server8!C9+Server9!C9+Server10!C9 -> 0
A28: Storage | C28: =Server1!C10+Server1!C11+Server1!C16+Server2!C10+Server2!C11+Server2!C16+Server3!C10+Server3!C11+Server3!C16+Server4!C10+Server4!C11+Server4!C16+Server5!C10+Server5!C11+Server5!C16+Server6!C10+Server6!C11+Server6!C16+Server7!C10+Server7!C11+Server7!C16+Server8!C10+Server8!C11+Server8!C16+Server9!C10+Server9!C11+Server9!C16+Server10!C10+Server10!C11+Server10!C16 -> 0
A29: Lizenzen | C29: =Server1!C12+Server1!C13+Server1!C14+Server1!C15+Server2!C12+Server2!C13+Server2!C14+Server2!C15+Server3!C12+Server3!C13+Server3!C14+Server3!C15+Server4!C12+Server4!C13+Server4!C14+Server4!C15+Server5!C12+Server5!C13+Server5!C14+Server5!C15+Server6!C12+Server6!C13+Server6!C14+Server6!C15+Server7!C12+Server7!C13+Server7!C14+Server7!C15+Server8!C12+Server8!C13+Server8!C14+Server8!C15+Server9!C12+Server9!C13+Server9!C14+Server9!C15+Server10!C12+Server10!C13+Server10!C14+Server10!C15 -> 0
A30: Security | C30: =C19+C22 -> 0
A31: Support und Betreuung | C31: =Server1!C17+Server1!C18+Server2!C17+Server2!C18+Server3!C17+Server3!C18+Server4!C17+Server4!C18+Server5!C17+Server5!C18+Server6!C17+Server6!C18+Server7!C17+Server7!C18+Server8!C17+Server8!C18+Server9!C17+Server9!C18+Server10!C17+Server10!C18+C18 -> 0
A32: Add Ons | C32: =C23 -> 0
A33: Netzwerk | C33: =C21+C20+C17+C16+C15 -> 0
A34: Total CPU [Stk] | C34: =CPUs+[0]!CPUs+[0]!CPUs+[0]!CPUs+[0]!CPUs+[0]!CPUs+[0]!CPUs+[0]!CPUs+[0]!CPUs+[0]!CPUs -> 0
A35: Total RAM [GB] | C35: =Server1!B8+Server2!B8+Server3!B8+Server4!B8+Server5!B8+Server6!B8+Server7!B8+Server8!B8+Server9!B8+Server10!B8 -> 0
A36: Total Storage Tier I [GB] | C36: =Server1!B10+Server2!B10+Server3!B10+Server4!B10+Server5!B10+Server6!B10+Server7!B10+Server8!B10+Server9!B10+Server10!B10 -> 0
A37: Total Storage Tier II [GB] | C37: =Server1!B11+Server2!B11+Server3!B11+Server4!B11+Server5!B11+Server6!B11+Server7!B11+Server8!B11+Server9!B11+Server10!B11 -> 0
A38: Total Storage Tier III (Backup) [GB] | C38: =(Server1!C16+Server2!C16+Server3!C16+Server4!C16+Server5!C16+Server6!C16+Server7!C16+Server8!C16+Server9!C16+Server10!C16)/Preise!B18 -> 0

Sheet SLA Matrix
A5: Server | B5: Verfügbarkait in % | C5: RPO in h | D5: RTO in h | E5: max Downtime pro Jahr | F5: max Anzahl von Fehlern
A6: =Server1!C6 -> Name1 | B6: 99.6 | D6: =IF(Gesamtkosten!C5<>"0",IF(Server1!$B$10>1000,4,2),"") -> 2 | E6: =IF(B6<>"",365*24*(100-B6)/100,"") -> 35.04 | F6: =IF(A6<>"",IF(B6=99.9,3,1),"") -> 1
A7: Name2 | B7: 99.6 | D7: =IF(Gesamtkosten!C6<>"0",IF(Server2!$B$10>1000,4,2),"") -> 2 | E7: =IF(B7<>"",365*24*(100-B7)/100,"") -> 35.04 | F7: =IF(A7<>"",IF(B7=99.9,3,1),"") -> 1
A8: Name3 | B8: 99.6 | D8: =IF(Gesamtkosten!C7<>"0",IF(Server3!$B$10>1000,4,2),"") -> 2 | E8: =IF(B8<>"",365*24*(100-B8)/100,"") -> 35.04 | F8: =IF(A8<>"",IF(B8=99.9,3,1),"") -> 1
A9: Name4 | B9: 99.6 | D9: =IF(Gesamtkosten!C8<>"0",IF(Server4!$B$10>1000,4,2),"") -> 2 | E9: =IF(B9<>"",365*24*(100-B9)/100,"") -> 35.04 | F9: =IF(A9<>"",IF(B9=99.9,3,1),"") -> 1
A10: Name5 | B10: 99.6 | D10: =IF(Gesamtkosten!C9<>"0",IF(Server5!$B$10>1000,4,2),"") -> 2 | E10: =IF(B10<>"",365*24*(100-B10)/100,"") -> 35.04 | F10: =IF(A10<>"",IF(B10=99.9,3,1),"") -> 1
A11: Name6 | B11: 99.6 | D11: =IF(Gesamtkosten!C10<>"0",IF(Server6!$B$10>1000,4,2),"") -> 2 | E11: =IF(B11<>"",365*24*(100-B11)/100,"") -> 35.04 | F11: =IF(A11<>"",IF(B11=99.9,3,1),"") -> 1
A12: Name7 | B12: 99.6 | D12: =IF(Gesamtkosten!C11<>"0",IF(Server7!$B$10>1000,4,2),"") -> 2 | E12: =IF(B12<>"",365*24*(100-B12)/100,"") -> 35.04 | F12: =IF(A12<>"",IF(B12=99.9,3,1),"") -> 1
A13: Name8 | B13: 99.6 | D13: =IF(Gesamtkosten!C12<>"0",IF(Server8!$B$10>1000,4,2),"") -> 2 | E13: =IF(B13<>"",365*24*(100-B13)/100,"") -> 35.04 | F13: =IF(A13<>"",IF(B13=99.9,3,1),"") -> 1
A14: Name9 | B14: 99.6 | D14: =IF(Gesamtkosten!C13<>"0",IF(Server9!$B$10>1000,4,2),"") -> 2 | E14: =IF(B14<>"",365*24*(100-B14)/100,"") -> 35.04 | F14: =IF(A14<>"",IF(B14=99.9,3,1),"") -> 1
A15: Name10 | B15: 99.6 | D15: =IF(Gesamtkosten!C14<>"0",IF(Server10!$B$10>1000,4,2),"") -> 2 | E15: =IF(B15<>"",365*24*(100-B15)/100,"") -> 35.04 | F15: =IF(A15<>"",IF(B15=99.9,3,1),"") -> 1

Sheet Add-Ons
A2: Service | B2: Anz | C2: Preis/Anzahl | D2: Summe/Monat | E2: Setup Kosten | F2: Anmerkung
A3: S3 Spreicher [TB] | B3: 0 | C3: =Preise!B30 -> 35 | D3: =C3*B3 -> 0 | E3: =IF(B3=0,0,160) -> 0 | F3: Cloud-Datenspeicher
A4: Veam Cloud Connect Storage [GB] | B4: 0 | C4: =Preise!B31 -> 0.13 | D4: =C4*B4 -> 0 | E4: =IF(B4=0,0,160) -> 0 | F4: Für Veeam optimierter Backupspeicher im Datencenter
A5: DNS Firewall | B5: 0 | C5: =Preise!B32 -> 4.2 | D5: =C5*B5 -> 0 | E5: =IF(B5=0,0,320) -> 0 | F5: Absicherung von DNS Abfragen um Malware frühzeitig zu erkennen (*)
A6: Firewall Protect Plus | B6: 0 | C6: =Preise!B33 -> 3.35 | D6: =C6*B6 -> 0 | E6: =IF(B6=0,0,320) -> 0 | F6: Erweiterung der Firewall um premium Datenfeeds (wird pro User lizenziert) (**)
A7: Patchmanagement Clients | B7: 0 | C7: =Preise!B27 -> 8.5 | D7: =C7*B7 -> 0 | E7: =IF(B7=0,0,160) -> 0 | F7: Bereitstellung und Installation von OS Updates und Patches - System Härtung
A8: Update / Patchmanagement Server | B8: 0 | C8: 150 | D8: =C8*B8 -> 0 | E8: =IF(B8=0,0,160) -> 0 | F8: Bereitstellung und Installation von OS Updates und Patches - System Härtung
A9: Monitoring | B9: 0 | C9: =Preise!B38 -> 4.2 | D9: =C9*B9 -> 0 | E9: =IF(B9=0,0,160) -> 0 | F9: Überwachung von allen Ihren Greäten auf Betriebsfähigkeit (***)
A10: Monitoring Advanced | B10: 0 | C10: =Preise!B37 -> 6.7 | D10: =C10*B10 -> 0 | E10: =IF(B10=0,0,480) -> 0 | F10: Überwachung von allen Ihren Greäten auf Betriebsfähigkeit aus Ihrem Netzwerk (****)
A11: Manged Secure Endpoint | B11: 0 | C11: =Preise!B25 -> 12.06 | D11: =C11*B11 -> 0 | E11: =IF(B11=0,0,160) -> 0 | F11: Managed NextGen AntiVirus inkl. Leistung.
A12: Office 365 Backup | B12: 0 | C12: =Preise!B39 -> 2.7872 | D12: =C12*B12 -> 0 | E12: =IF(B12=0,0,320) -> 0 | F12: Sicherung von Office365 Daten
A13: Awarenes Schulungen | B13: 0 | C13: =Preise!B40 -> 6.7 | D13: =C13*B13 -> 0 | E13: =IF(B13=0,0,320) -> 0 | F13: Schaffen von Sicherheitsbewustsein ihrer Benutzer (NIS2) (*****)
A14: Darkweb Recherche | B14: 0 | C14: =Preise!B41 -> 13400 | D14: =C14*B14 -> 0 | E14: =IF(B14=0,0,500) -> 0 | F14: Darkweb Analyse (******) Einmalige Komplettanalyse.
B15: 0 | D15: =C15*B15 -> 0 | E15: 0
A16: Summe | D16: =SUM(D3:D15) -> 0 | E16: =SUM(E3:E15) -> 0
A19: * Was ist das genau?
A20: ** Vermeidung von Hacker oder Spamattacken, erweiterte Schutz vor Angriffen
A21: *** Managed Monitoring der Endgeräte - Clients
A22: **** Managed Monitoring aller Netzwerkendgeräte - Firewall/Switches usw.
A23: ***** Schulungsplatform für User. Security Kurse zur Schaffung von Pflichtbewusstein in der IT
A24: ***** Welche Daten sind von Ihen gespeichert. Gibt es einen möglichen Angriff gegebn Sie, der geplant ist?

Sheet Server1
A6: Name | C6: Name1
A7: vCores [STK] | B7: 0 | C7: =IF(B7>'interne Kalkulation'!B12,(B7-'interne Kalkulation'!B12)*Preise!B15,0) -> 0
A8: RAM [GB] | B8: 0 | C8: =IF(B8>stdRAM,(B8-stdRAM)*Preise!B14,0) -> 0
A9: Basis VM Preis | C9: =IF(CPUs=0,0,IF(B8=0,0,(Preise!B8+SUM(C7:C8)))) -> 0
A10: T1 Storage [GB] (min 50GB) | B10: 0 | C10: =IF(C9=0,0,B10*Preise!B16) -> 0
A11: T2 Storage [GB] | B11: 0 | C11: =IF(C9=0,0,B11*Preise!B17) -> 0
A12: Windows Lizenz1 | B12: Nein | C12: =IF(B12="Ja",IF(C9=0,0,IF(B7<8,ROUND(8/2,0)*Preise!B9,ROUND(B7/2,0)*Preise!B9)),0) -> 0
A13: RDS Lizenzen | B13: 0 | C13: =IF(C9=0,0,B13*Preise!B10) -> 0
A14: User-CAL | B14: 0 | C14: =IF(C9=0,0,B14*Preise!B11) -> 0
A15: MS-SQL Server Lizenz2 | B15: Nein | C15: =IF(B15="Ja",IF(C9=0,0,ROUND(B7/2,0)*Preise!B12),0) -> 0
A16: Backup | B16: 4 Tage | C16: =IF(B16="30 Tage",IF(C9=0,0,(B10+B11)*3*Preise!B18),IF(B16="14 Tage",IF(C9=0,0,(B10+B11)*2*Preise!B18),IF(C9=0,0,(B10+B11)*1.5*Preise!B18))) -> 0
A17: OS Betreuung | B17: Nein | C17: =IF(B17="Ja",IF(C9=0,0,Preise!B34),0) -> 0
A18: DB Betreuung | B18: Nein | C18: =IF(B18="Ja",IF(C9=0,0,Preise!B35),0) -> 0
A19: Summe | C19: =SUM(C9:C18) -> 0
A20: Setup Kosten | C20: =IF(C19>0,Preise!B36+C17+C18,0) -> 0
A23: 1) Es müssen immer mind. 8 Cores lizenziert werden
A24: 2)Es müssen immer mind. 2 Cores lizenziert werden.
A25: 2) 50 GB T1 Storage mindest Größe
A26: 3) Standard Server 4 Cores und 8 GB RAM
A27: 4) RDS/Terminal: WinSRV 2022; 8 Cores und 16GB RAM (+ 2GB / aktivem User) [Anwendungsabhängig]

Sheet Server2
A6: Name | C6: Name2
A7: vCores [STK] | B7: 0 | C7: =IF(B7>'interne Kalkulation'!B12,(B7-'interne Kalkulation'!B12)*Preise!B15,0) -> 0
A8: RAM [GB] | B8: 0 | C8: =IF(B8>stdRAM,(B8-stdRAM)*Preise!B14,0) -> 0
A9: Basis VM Preis | C9: =IF(CPUs=0,0,IF(B8=0,0,(Preise!B8+SUM(C7:C8)))) -> 0
A10: T1 Storage [GB] (min 50GB) | B10: 0 | C10: =IF(C9=0,0,B10*Preise!B16) -> 0
A11: T2 Storage [GB] | B11: 0 | C11: =IF(C9=0,0,B11*Preise!B17) -> 0
A12: Windows Lizenz1 | B12: Nein | C12: =IF(B12="Ja",IF(C9=0,0,IF(B7<8,ROUND(8/2,0)*Preise!B9,ROUND(B7/2,0)*Preise!B9)),0) -> 0
A13: RDS Lizenzen | B13: 0 | C13: =IF(C9=0,0,B13*Preise!B10) -> 0
A14: User-CAL | B14: 0 | C14: =IF(C9=0,0,B14*Preise!B11) -> 0
A15: MS-SQL Server Lizenz2 | B15: Nein | C15: =IF(B15="Ja",IF(C9=0,0,ROUND(B7/2,0)*Preise!B12),0) -> 0
A16: Backup | B16: 4 Tage | C16: =IF(B16="30 Tage",IF(C9=0,0,(B10+B11)*3*Preise!B18),IF(B16="14 Tage",IF(C9=0,0,(B10+B11)*2*Preise!B18),IF(C9=0,0,(B10+B11)*1.5*Preise!B18))) -> 0
A17: OS Betreuung | B17: Nein | C17: =IF(B17="Ja",IF(C9=0,0,Preise!B34),0) -> 0
A18: DB Betreuung | B18: Nein | C18: =IF(B18="Ja",IF(C9=0,0,Preise!B35),0) -> 0
A19: Summe | C19: =SUM(C9:C18) -> 0
A20: Setup Kosten | C20: =IF(C19>0,Preise!B36+C17+C18,0) -> 0
A23: 1) Es müssen immer mind. 8 Cores lizenziert werden
A24: 2)Es müssen immer mind. 2 Cores lizenziert werden.
A25: 2) 50 GB T1 Storage mindest Größe
A26: 3) Standard Server 4 Cores und 8 GB RAM
A27: 4) RDS/Terminal: WinSRV 2022; 8 Cores und 16GB RAM (+ 2GB / aktivem User) [Anwendungsabhängig]

Sheet Server3
A6: Name | C6: Name3
A7: vCores [STK] | B7: 0 | C7: =IF(B7>'interne Kalkulation'!B12,(B7-'interne Kalkulation'!B12)*Preise!B15,0) -> 0
A8: RAM [GB] | B8: 0 | C8: =IF(B8>stdRAM,(B8-stdRAM)*Preise!B14,0) -> 0
A9: Basis VM Preis | C9: =IF(CPUs=0,0,IF(B8=0,0,(Preise!B8+SUM(C7:C8)))) -> 0
A10: T1 Storage [GB] (min 50GB) | B10: 0 | C10: =IF(C9=0,0,B10*Preise!B16) -> 0
A11: T2 Storage [GB] | B11: 0 | C11: =IF(C9=0,0,B11*Preise!B17) -> 0
A12: Windows Lizenz1 | B12: Nein | C12: =IF(B12="Ja",IF(C9=0,0,IF(B7<8,ROUND(8/2,0)*Preise!B9,ROUND(B7/2,0)*Preise!B9)),0) -> 0
A13: RDS Lizenzen | B13: 0 | C13: =IF(C9=0,0,B13*Preise!B10) -> 0
A14: User-CAL | B14: 0 | C14: =IF(C9=0,0,B14*Preise!B11) -> 0
A15: MS-SQL Server Lizenz2 | B15: Nein | C15: =IF(B15="Ja",IF(C9=0,0,ROUND(B7/2,0)*Preise!B12),0) -> 0
A16: Backup | B16: 4 Tage | C16: =IF(B16="30 Tage",IF(C9=0,0,(B10+B11)*3*Preise!B18),IF(B16="14 Tage",IF(C9=0,0,(B10+B11)*2*Preise!B18),IF(C9=0,0,(B10+B11)*1.5*Preise!B18))) -> 0
A17: OS Betreuung | B17: Nein | C17: =IF(B17="Ja",IF(C9=0,0,Preise!B34),0) -> 0
A18: DB Betreuung | B18: Nein | C18: =IF(B18="Ja",IF(C9=0,0,Preise!B35),0) -> 0
A19: Summe | C19: =SUM(C9:C18) -> 0
A20: Setup Kosten | C20: =IF(C19>0,Preise!B36+C17+C18,0) -> 0
A23: 1) Es müssen immer mind. 8 Cores lizenziert werden
A24: 2)Es müssen immer mind. 2 Cores lizenziert werden.
A25: 2) 50 GB T1 Storage mindest Größe
A26: 3) Standard Server 4 Cores und 8 GB RAM
A27: 4) RDS/Terminal: WinSRV 2022; 8 Cores und 16GB RAM (+ 2GB / aktivem User) [Anwendungsabhängig]

Sheet Server4
A6: Name | C6: Name4
A7: vCores [STK] | B7: 0 | C7: =IF(B7>'interne Kalkulation'!B12,(B7-'interne Kalkulation'!B12)*Preise!B15,0) -> 0
A8: RAM [GB] | B8: 0 | C8: =IF(B8>stdRAM,(B8-stdRAM)*Preise!B14,0) -> 0
A9: Basis VM Preis | C9: =IF(CPUs=0,0,IF(B8=0,0,(Preise!B8+SUM(C7:C8)))) -> 0
A10: T1 Storage [GB] (min 50GB) | B10: 0 | C10: =IF(C9=0,0,B10*Preise!B16) -> 0
A11: T2 Storage [GB] | B11: 0 | C11: =IF(C9=0,0,B11*Preise!B17) -> 0
A12: Windows Lizenz1 | B12: Nein | C12: =IF(B12="Ja",IF(C9=0,0,IF(B7<8,ROUND(8/2,0)*Preise!B9,ROUND(B7/2,0)*Preise!B9)),0) -> 0
A13: RDS Lizenzen | B13: 0 | C13: =IF(C9=0,0,B13*Preise!B10) -> 0
A14: User-CAL | B14: 0 | C14: =IF(C9=0,0,B14*Preise!B11) -> 0
A15: MS-SQL Server Lizenz2 | B15: Nein | C15: =IF(B15="Ja",IF(C9=0,0,ROUND(B7/2,0)*Preise!B12),0) -> 0
A16: Backup | B16: 4 Tage | C16: =IF(B16="30 Tage",IF(C9=0,0,(B10+B11)*3*Preise!B18),IF(B16="14 Tage",IF(C9=0,0,(B10+B11)*2*Preise!B18),IF(C9=0,0,(B10+B11)*1.5*Preise!B18))) -> 0
A17: OS Betreuung | B17: Nein | C17: =IF(B17="Ja",IF(C9=0,0,Preise!B34),0) -> 0
A18: DB Betreuung | B18: Nein | C18: =IF(B18="Ja",IF(C9=0,0,Preise!B35),0) -> 0
A19: Summe | C19: =SUM(C9:C18) -> 0
A20: Setup Kosten | C20: =IF(C19>0,Preise!B36+C17+C18,0) -> 0
A23: 1) Es müssen immer mind. 8 Cores lizenziert werden
A24: 2)Es müssen immer mind. 2 Cores lizenziert werden.
A25: 2) 50 GB T1 Storage mindest Größe
A26: 3) Standard Server 4 Cores und 8 GB RAM
A27: 4) RDS/Terminal: WinSRV 2022; 8 Cores und 16GB RAM (+ 2GB / aktivem User) [Anwendungsabhängig]

Sheet Server5
A6: Name | C6: Name5
A7: vCores [STK] | B7: 0 | C7: =IF(B7>'interne Kalkulation'!B12,(B7-'interne Kalkulation'!B12)*Preise!B15,0) -> 0
A8: RAM [GB] | B8: 0 | C8: =IF(B8>stdRAM,(B8-stdRAM)*Preise!B14,0) -> 0
A9: Basis VM Preis | C9: =IF(CPUs=0,0,IF(B8=0,0,(Preise!B8+SUM(C7:C8)))) -> 0
A10: T1 Storage [GB] (min 50GB) | B10: 0 | C10: =IF(C9=0,0,B10*Preise!B16) -> 0
A11: T2 Storage [GB] | B11: 0 | C11: =IF(C9=0,0,B11*Preise!B17) -> 0
A12: Windows Lizenz1 | B12: Nein | C12: =IF(B12="Ja",IF(C9=0,0,IF(B7<8,ROUND(8/2,0)*Preise!B9,ROUND(B7/2,0)*Preise!B9)),0) -> 0
A13: RDS Lizenzen | B13: 0 | C13: =IF(C9=0,0,B13*Preise!B10) -> 0
A14: User-CAL | B14: 0 | C14: =IF(C9=0,0,B14*Preise!B11) -> 0
A15: MS-SQL Server Lizenz2 | B15: Nein | C15: =IF(B15="Ja",IF(C9=0,0,ROUND(B7/2,0)*Preise!B12),0) -> 0
A16: Backup | B16: 4 Tage | C16: =IF(B16="30 Tage",IF(C9=0,0,(B10+B11)*3*Preise!B18),IF(B16="14 Tage",IF(C9=0,0,(B10+B11)*2*Preise!B18),IF(C9=0,0,(B10+B11)*1.5*Preise!B18))) -> 0
A17: OS Betreuung | B17: Nein | C17: =IF(B17="Ja",IF(C9=0,0,Preise!B34),0) -> 0
A18: DB Betreuung | B18: Nein | C18: =IF(B18="Ja",IF(C9=0,0,Preise!B35),0) -> 0
A19: Summe | C19: =SUM(C9:C18) -> 0
A20: Setup Kosten | C20: =IF(C19>0,Preise!B36+C17+C18,0) -> 0
A23: 1) Es müssen immer mind. 8 Cores lizenziert werden
A24: 2)Es müssen immer mind. 2 Cores lizenziert werden.
A25: 2) 50 GB T1 Storage mindest Größe
A26: 3) Standard Server 4 Cores und 8 GB RAM
A27: 4) RDS/Terminal: WinSRV 2022; 8 Cores und 16GB RAM (+ 2GB / aktivem User) [Anwendungsabhängig]

Sheet Server6
A6: Name | C6: Name6
A7: vCores [STK] | B7: 0 | C7: =IF(B7>'interne Kalkulation'!B12,(B7-'interne Kalkulation'!B12)*Preise!B15,0) -> 0
A8: RAM [GB] | B8: 0 | C8: =IF(B8>stdRAM,(B8-stdRAM)*Preise!B14,0) -> 0
A9: Basis VM Preis | C9: =IF(CPUs=0,0,IF(B8=0,0,(Preise!B8+SUM(C7:C8)))) -> 0
A10: T1 Storage [GB] (min 50GB) | B10: 0 | C10: =IF(C9=0,0,B10*Preise!B16) -> 0
A11: T2 Storage [GB] | B11: 0 | C11: =IF(C9=0,0,B11*Preise!B17) -> 0
A12: Windows Lizenz1 | B12: Nein | C12: =IF(B12="Ja",IF(C9=0,0,IF(B7<8,ROUND(8/2,0)*Preise!B9,ROUND(B7/2,0)*Preise!B9)),0) -> 0
A13: RDS Lizenzen | B13: 0 | C13: =IF(C9=0,0,B13*Preise!B10) -> 0
A14: User-CAL | B14: 0 | C14: =IF(C9=0,0,B14*Preise!B11) -> 0
A15: MS-SQL Server Lizenz2 | B15: Nein | C15: =IF(B15="Ja",IF(C9=0,0,ROUND(B7/2,0)*Preise!B12),0) -> 0
A16: Backup | B16: 4 Tage | C16: =IF(B16="30 Tage",IF(C9=0,0,(B10+B11)*3*Preise!B18),IF(B16="14 Tage",IF(C9=0,0,(B10+B11)*2*Preise!B18),IF(C9=0,0,(B10+B11)*1.5*Preise!B18))) -> 0
A17: OS Betreuung | B17: Nein | C17: =IF(B17="Ja",IF(C9=0,0,Preise!B34),0) -> 0
A18: DB Betreuung | B18: Nein | C18: =IF(B18="Ja",IF(C9=0,0,Preise!B35),0) -> 0
A19: Summe | C19: =SUM(C9:C18) -> 0
A20: Setup Kosten | C20: =IF(C19>0,Preise!B36+C17+C18,0) -> 0
A23: 1) Es müssen immer mind. 8 Cores lizenziert werden
A24: 2)Es müssen immer mind. 2 Cores lizenziert werden.
A25: 2) 50 GB T1 Storage mindest Größe
A26: 3) Standard Server 4 Cores und 8 GB RAM
A27: 4) RDS/Terminal: WinSRV 2022; 8 Cores und 16GB RAM (+ 2GB / aktivem User) [Anwendungsabhängig]

Sheet Server7
A6: Name | C6: Name7
A7: vCores [STK] | B7: 0 | C7: =IF(B7>'interne Kalkulation'!B12,(B7-'interne Kalkulation'!B12)*Preise!B15,0) -> 0
A8: RAM [GB] | B8: 0 | C8: =IF(B8>stdRAM,(B8-stdRAM)*Preise!B14,0) -> 0
A9: Basis VM Preis | C9: =IF(CPUs=0,0,IF(B8=0,0,(Preise!B8+SUM(C7:C8)))) -> 0
A10: T1 Storage [GB] (min 50GB) | B10: 0 | C10: =IF(C9=0,0,B10*Preise!B16) -> 0
A11: T2 Storage [GB] | B11: 0 | C11: =IF(C9=0,0,B11*Preise!B17) -> 0
A12: Windows Lizenz1 | B12: Nein | C12: =IF(B12="Ja",IF(C9=0,0,IF(B7<8,ROUND(8/2,0)*Preise!B9,ROUND(B7/2,0)*Preise!B9)),0) -> 0
A13: RDS Lizenzen | B13: 0 | C13: =IF(C9=0,0,B13*Preise!B10) -> 0
A14: User-CAL | B14: 0 | C14: =IF(C9=0,0,B14*Preise!B11) -> 0
A15: MS-SQL Server Lizenz2 | B15: Nein | C15: =IF(B15="Ja",IF(C9=0,0,ROUND(B7/2,0)*Preise!B12),0) -> 0
A16: Backup | B16: 4 Tage | C16: =IF(B16="30 Tage",IF(C9=0,0,(B10+B11)*3*Preise!B18),IF(B16="14 Tage",IF(C9=0,0,(B10+B11)*2*Preise!B18),IF(C9=0,0,(B10+B11)*1.5*Preise!B18))) -> 0
A17: OS Betreuung | B17: Nein | C17: =IF(B17="Ja",IF(C9=0,0,Preise!B34),0) -> 0
A18: DB Betreuung | B18: Nein | C18: =IF(B18="Ja",IF(C9=0,0,Preise!B35),0) -> 0
A19: Summe | C19: =SUM(C9:C18) -> 0
A20: Setup Kosten | C20: =IF(C19>0,Preise!B36+C17+C18,0) -> 0
A23: 1) Es müssen immer mind. 8 Cores lizenziert werden
A24: 2)Es müssen immer mind. 2 Cores lizenziert werden.
A25: 2) 50 GB T1 Storage mindest Größe
A26: 3) Standard Server 4 Cores und 8 GB RAM
A27: 4) RDS/Terminal: WinSRV 2022; 8 Cores und 16GB RAM (+ 2GB / aktivem User) [Anwendungsabhängig]

Sheet Server8
A6: Name | C6: Name8
A7: vCores [STK] | B7: 0 | C7: =IF(B7>'interne Kalkulation'!B12,(B7-'interne Kalkulation'!B12)*Preise!B15,0) -> 0
A8: RAM [GB] | B8: 0 | C8: =IF(B8>stdRAM,(B8-stdRAM)*Preise!B14,0) -> 0
A9: Basis VM Preis | C9: =IF(CPUs=0,0,IF(B8=0,0,(Preise!B8+SUM(C7:C8)))) -> 0
A10: T1 Storage [GB] (min 50GB) | B10: 0 | C10: =IF(C9=0,0,B10*Preise!B16) -> 0
A11: T2 Storage [GB] | B11: 0 | C11: =IF(C9=0,0,B11*Preise!B17) -> 0
A12: Windows Lizenz1 | B12: Nein | C12: =IF(B12="Ja",IF(C9=0,0,IF(B7<8,ROUND(8/2,0)*Preise!B9,ROUND(B7/2,0)*Preise!B9)),0) -> 0
A13: RDS Lizenzen | B13: 0 | C13: =IF(C9=0,0,B13*Preise!B10) -> 0
A14: User-CAL | B14: 0 | C14: =IF(C9=0,0,B14*Preise!B11) -> 0
A15: MS-SQL Server Lizenz2 | B15: Nein | C15: =IF(B15="Ja",IF(C9=0,0,ROUND(B7/2,0)*Preise!B12),0) -> 0
A16: Backup | B16: 4 Tage | C16: =IF(B16="30 Tage",IF(C9=0,0,(B10+B11)*3*Preise!B18),IF(B16="14 Tage",IF(C9=0,0,(B10+B11)*2*Preise!B18),IF(C9=0,0,(B10+B11)*1.5*Preise!B18))) -> 0
A17: OS Betreuung | B17: Nein | C17: =IF(B17="Ja",IF(C9=0,0,Preise!B34),0) -> 0
A18: DB Betreuung | B18: Nein | C18: =IF(B18="Ja",IF(C9=0,0,Preise!B35),0) -> 0
A19: Summe | C19: =SUM(C9:C18) -> 0
A20: Setup Kosten | C20: =IF(C19>0,Preise!B36+C17+C18,0) -> 0
A23: 1) Es müssen immer mind. 8 Cores lizenziert werden
A24: 2)Es müssen immer mind. 2 Cores lizenziert werden.
A25: 2) 50 GB T1 Storage mindest Größe
A26: 3) Standard Server 4 Cores und 8 GB RAM
A27: 4) RDS/Terminal: WinSRV 2022; 8 Cores und 16GB RAM (+ 2GB / aktivem User) [Anwendungsabhängig]

Sheet Server9
A6: Name | C6: Name9
A7: vCores [STK] | B7: 0 | C7: =IF(B7>'interne Kalkulation'!B12,(B7-'interne Kalkulation'!B12)*Preise!B15,0) -> 0
A8: RAM [GB] | B8: 0 | C8: =IF(B8>stdRAM,(B8-stdRAM)*Preise!B14,0) -> 0
A9: Basis VM Preis | C9: =IF(CPUs=0,0,IF(B8=0,0,(Preise!B8+SUM(C7:C8)))) -> 0
A10: T1 Storage [GB] (min 50GB) | B10: 0 | C10: =IF(C9=0,0,B10*Preise!B16) -> 0
A11: T2 Storage [GB] | B11: 0 | C11: =IF(C9=0,0,B11*Preise!B17) -> 0
A12: Windows Lizenz1 | B12: Nein | C12: =IF(B12="Ja",IF(C9=0,0,IF(B7<8,ROUND(8/2,0)*Preise!B9,ROUND(B7/2,0)*Preise!B9)),0) -> 0
A13: RDS Lizenzen | B13: 0 | C13: =IF(C9=0,0,B13*Preise!B10) -> 0
A14: User-CAL | B14: 0 | C14: =IF(C9=0,0,B14*Preise!B11) -> 0
A15: MS-SQL Server Lizenz2 | B15: Nein | C15: =IF(B15="Ja",IF(C9=0,0,ROUND(B7/2,0)*Preise!B12),0) -> 0
A16: Backup | B16: 4 Tage | C16: =IF(B16="30 Tage",IF(C9=0,0,(B10+B11)*3*Preise!B18),IF(B16="14 Tage",IF(C9=0,0,(B10+B11)*2*Preise!B18),IF(C9=0,0,(B10+B11)*1.5*Preise!B18))) -> 0
A17: OS Betreuung | B17: Nein | C17: =IF(B17="Ja",IF(C9=0,0,Preise!B34),0) -> 0
A18: DB Betreuung | B18: Nein | C18: =IF(B18="Ja",IF(C9=0,0,Preise!B35),0) -> 0
A19: Summe | C19: =SUM(C9:C18) -> 0
A20: Setup Kosten | C20: =IF(C19>0,Preise!B36+C17+C18,0) -> 0
A23: 1) Es müssen immer mind. 8 Cores lizenziert werden
A24: 2)Es müssen immer mind. 2 Cores lizenziert werden.
A25: 2) 50 GB T1 Storage mindest Größe
A26: 3) Standard Server 4 Cores und 8 GB RAM
A27: 4) RDS/Terminal: WinSRV 2022; 8 Cores und 16GB RAM (+ 2GB / aktivem User) [Anwendungsabhängig]

Sheet Server10
A6: Name | C6: Name10
A7: vCores [STK] | B7: 0 | C7: =IF(B7>'interne Kalkulation'!B12,(B7-'interne Kalkulation'!B12)*Preise!B15,0) -> 0
A8: RAM [GB] | B8: 0 | C8: =IF(B8>stdRAM,(B8-stdRAM)*Preise!B14,0) -> 0
A9: Basis VM Preis | C9: =IF(CPUs=0,0,IF(B8=0,0,(Preise!B8+SUM(C7:C8)))) -> 0
A10: T1 Storage [GB] (min 50GB) | B10: 0 | C10: =IF(C9=0,0,B10*Preise!B16) -> 0
A11: T2 Storage [GB] | B11: 0 | C11: =IF(C9=0,0,B11*Preise!B17) -> 0
A12: Windows Lizenz1 | B12: Nein | C12: =IF(B12="Ja",IF(C9=0,0,IF(B7<8,ROUND(8/2,0)*Preise!B9,ROUND(B7/2,0)*Preise!B9)),0) -> 0
A13: RDS Lizenzen | B13: 0 | C13: =IF(C9=0,0,B13*Preise!B10) -> 0
A14: User-CAL | B14: 0 | C14: =IF(C9=0,0,B14*Preise!B11) -> 0
A15: MS-SQL Server Lizenz2 | B15: Nein | C15: =IF(B15="Ja",IF(C9=0,0,ROUND(B7/2,0)*Preise!B12),0) -> 0
A16: Backup | B16: 4 Tage | C16: =IF(B16="30 Tage",IF(C9=0,0,(B10+B11)*3*Preise!B18),IF(B16="14 Tage",IF(C9=0,0,(B10+B11)*2*Preise!B18),IF(C9=0,0,(B10+B11)*1.5*Preise!B18))) -> 0
A17: OS Betreuung | B17: Nein | C17: =IF(B17="Ja",IF(C9=0,0,Preise!B34),0) -> 0
A18: DB Betreuung | B18: Nein | C18: =IF(B18="Ja",IF(C9=0,0,Preise!B35),0) -> 0
A19: Summe | C19: =SUM(C9:C18) -> 0
A20: Setup Kosten | C20: =IF(C19>0,Preise!B36+C17+C18,0) -> 0
A23: 1) Es müssen immer mind. 8 Cores lizenziert werden
A24: 2)Es müssen immer mind. 2 Cores lizenziert werden.
A25: 2) 50 GB T1 Storage mindest Größe
A26: 3) Standard Server 4 Cores und 8 GB RAM
A27: 4) RDS/Terminal: WinSRV 2022; 8 Cores und 16GB RAM (+ 2GB / aktivem User) [Anwendungsabhängig]

Sheet Zwischen Rechnung Setupkosten
A1: Setup
B2: Interne Berechnung für Setupkosten
D3: E- Preis | E3: G-Preis
B4: Uplink | C4: =Gesamtkosten!B15 -> Nein | D4: =Preise!B42 -> 127.3 | E4: =IF(C4="Nein",0,D4) -> 0
B5: Pubic Ips | C5: =Gesamtkosten!B16 -> 0 | D5: =Preise!B43 -> 127.3 | E5: =C5*D5 -> 0
B6: VLANs | C6: =Gesamtkosten!B17 -> 0 | D6: =Preise!B44 -> 127.3 | E6: =C6*D6 -> 0
B7: 7x24 Bereitschaft | C7: =Gesamtkosten!B18 -> Nein | D7: =Preise!B45 -> 335 | E7: =IF(C7="Nein",0,D7) -> 0
B9: ReversProxy | C9: =Gesamtkosten!B19 -> Nein | D9: =Preise!B47 -> 670 | E9: =IF(C9="Nein",0,D9) -> 0
B10: Site2Site VPN | C10: =Gesamtkosten!B20 -> 0 | D10: =Preise!B48 -> 180.9 | E10: =C10*D10 -> 0
B11: Client VPN | C11: =Gesamtkosten!B21 -> 0 | D11: =Preise!B49 -> 180.9 | E11: =IF(C11=0,0,D11) -> 0
B12: Client VPN pro User | C12: =Gesamtkosten!B21 -> 0 | D12: =Preise!B50 -> 6.7 | E12: =D12*C12 -> 0
B13: Addons | E13: ='Add-Ons'!E16 -> 0
B14: Server1 | E14: =Server1!C20 -> 0
B15: Server2 | E15: =Server2!C20 -> 0
B16: Server3 | E16: =Server3!C20 -> 0
B17: Server4 | E17: =Server4!C20 -> 0
B18: Server5 | E18: =Server5!C20 -> 0
B19: Server6 | E19: =Server6!C20 -> 0
B20: Server7 | E20: =Server7!C20 -> 0
B21: Server8 | E21: =Server8!C20 -> 0
B22: Server9 | E22: =Server9!C20 -> 0
B23: Server10 | E23: =Server10!C20 -> 0
B24: Firewall Service für Server | D24: =Preise!B46 -> 335 | E24: =IF(SUM(E4:E23)>0,D24,0) -> 0
E25: =SUM(E4:E24) -> 0

Sheet Preise
A2: Marge | D2: 0.34
A3: Max Kunden | D3: ='interne Kalkulation'!B18 -> 57
A4: EK Proxmox Cluster inkl. Uplink und 24x7 Betrieb | D4: 4000
A5: Fortinet Firewall Service inkl. UTM Bundle | D5: 305
B7: individuller VK | C7: VK laut Marge | D7: EK
A8: VM | B8: =C8 -> 101.08772 | C8: =D8*(1+$D$2) -> 101.08772 | D8: ='interne Kalkulation'!B23 -> 75.438596
A9: Windows Server pro 2 VM Cores | B9: 7.37 | C9: =D9*(1+$D$2) -> 6.9546 | D9: 5.19
A10: RDS-CAL | B10: =C10 -> 9.2326 | C10: =D10*(1+$D$2) -> 9.2326 | D10: 6.89
A11: User-CAL | B11: 1.39 | C11: =D11*(1+$D$2) -> 1.4204 | D11: 1.06
A12: SQL-SERVER pro 2 Cores | B12: 214.4 | C12: =D12*(1+$D$2) -> 189.8244 | D12: 141.66
A13: Backup Lizenzen | B13: 16.2 | C13: =D13*(1+$D$2) -> 9.7552 | D13: 7.28
A14: RAM | B14: =C14 -> 12.635965 | C14: =D14*(1+$D$2) -> 12.635965 | D14: ='interne Kalkulation'!B26 -> 9.4298246
A15: CPU | B15: =C15 -> 25.27193 | C15: =D15*(1+$D$2) -> 25.27193 | D15: ='interne Kalkulation'!B25 -> 18.859649
A16: T1 Storage SSD | B16: 0.35 | C16: =D16*(1+$D$2) -> 0.2546 | D16: 0.19
A17: T2 Storage HDD | B17: 0.1 | C17: =D17*(1+$D$2) -> 0.067 | D17: 0.05
A18: Backup Storage | B18: =C18 -> 0.067 | C18: =D18*(1+$D$2) -> 0.067 | D18: 0.05
A19: VLAN | B19: =C19 -> 20.1 | C19: =D19*(1+$D$2) -> 20.1 | D19: 15
A20: Uplink | B20: =C20 -> 67 | C20: =D20*(1+$D$2) -> 67 | D20: 50
A21: IP | B21: 3.3 | C21: =D21*(1+$D$2) -> 1.34 | D21: 1
A22: Firewall | B22: 39.9 | C22: =D22*(1+$D$2) -> 35.850877 | D22: =D5/D3*5 -> 26.754386
A23: Site2Site VPN | B23: =C23 -> 18.76 | C23: =D23*(1+$D$2) -> 18.76 | D23: 14
A24: Client VPN | B24: =C24 -> 3.35 | C24: =D24*(1+$D$2) -> 3.35 | D24: 2.5
A25: SentinalOne | B25: =C25 -> 12.06 | C25: =D25*(1+$D$2) -> 12.06 | D25: 9
A26: Kaspersky | B26: 12.06 | C26: =D26*(1+$D$2) -> 12.06 | D26: 9
A27: NinjaOne | B27: 8.5 | C27: =D27*(1+$D$2) -> 3.35 | D27: 2.5
A28: ReversProxy | B28: =C28 -> 402 | C28: =D28*(1+$D$2) -> 402 | D28: 300
A29: 24x7 | B29: =C29 -> 844.2 | C29: =D29*(1+$D$2) -> 844.2 | D29: 630
A30: S3 [TB] | B30: 35 | C30: =D30*(1+$D$2) -> 20.1 | D30: 15
A31: Veam Cloud Connect Storage [GB] / externe Sicherung sicherung über Agent von intern. | B31: 0.13 | C31: =D31*(1+$D$2) -> 0.0938 | D31: 0.07
A32: Blue Shield pro User | B32: 4.2 | C32: =D32*(1+$D$2) -> 3.618 | D32: 2.7
A33: FW Protect Plus pro User | B33: =C33 -> 3.35 | C33: =D33*(1+$D$2) -> 3.35 | D33: 2.5
A34: OS Betreuung | B34: =C34 -> 160.8 | C34: =D34*(1+$D$2) -> 160.8 | D34: 120
A35: DB Betreuung | B35: =C35 -> 160.8 | C35: =D35*(1+$D$2) -> 160.8 | D35: 120
A36: Server Setup Kosten | B36: 180 | C36: =D36*(1+$D$2) -> 160.8 | D36: 120
A37: Montitoring Advanced | B37: 6.7 | C37: =D37*(1+$D$2) -> 0 | D37: 0
A38: Monitoring | B38: 4.2 | C38: =D38*(1+$D$2) -> 0 | D38: 0
A39: Office365 Backup | B39: =C39 -> 2.7872 | C39: =D39*(1+$D$2) -> 2.7872 | D39: 2.08
A40: Awarenes Schulungen | B40: =C40 -> 6.7 | C40: =D40*(1+$D$2) -> 6.7 | D40: 5
A41: Darkweb Recherche | B41: =C41 -> 13400 | C41: =D41*(1+$D$2) -> 13400 | D41: 10000
A42: Setup Uplink | B42: =C42 -> 127.3 | C42: =D42*(1+$D$2) -> 127.3 | D42: 95
...

Sheet interne Kalkulation
A3: Nodes | B3: 3 | D3: Ratio
A4: vCPUs [STK] | B4: 48 | C4: =B4*(B3-1) -> 96 | D4: 4 | E4: =D4*C4 -> 384
A5: RAM [GB] | B5: =16*32 -> 512 | C5: =B5*(B3-1) -> 1024 | D5: 2 | E5: =D5*C5 -> 2048
A11: std Server
A12: Cores | B12: 4
A13: RAM | B13: 8
A16: Anzahl der möglichen VMs
A17: Puffer | B17: 0.4
A18: nach CPU | B18: =ROUNDDOWN(E4/B12-E4/B12*B17,0) -> 57
A19: nach RAM | B19: =ROUNDDOWN(E5/B13 - E5/B13*B17,0) -> 153
A22: Cluster Kosten | B22: 4300
A23: Kosten pro std VM | B23: =IF(B18<B19,B22/B18,B22/B19) -> 75.438596
A25: Kosten pro weitere CPU | B25: =B23/B12 -> 18.859649
A26: Kosten pro weiter GB Ram | B26: =B23/B13 -> 9.4298246
